BEGIN:VCALENDAR
VERSION:2.0
PRODID:-//Veterans Service Commission of Summit County - ECPv6.15.20//NONSGML v1.0//EN
CALSCALE:GREGORIAN
METHOD:PUBLISH
X-WR-CALNAME:Veterans Service Commission of Summit County
X-ORIGINAL-URL:https://www.vscsummitoh.us
X-WR-CALDESC:Events for Veterans Service Commission of Summit County
REFRESH-INTERVAL;VALUE=DURATION:PT1H
X-Robots-Tag:noindex
X-PUBLISHED-TTL:PT1H
BEGIN:VTIMEZONE
TZID:America/New_York
BEGIN:DAYLIGHT
TZOFFSETFROM:-0500
TZOFFSETTO:-0400
TZNAME:EDT
DTSTART:20250309T070000
END:DAYLIGHT
BEGIN:STANDARD
TZOFFSETFROM:-0400
TZOFFSETTO:-0500
TZNAME:EST
DTSTART:20251102T060000
END:STANDARD
BEGIN:DAYLIGHT
TZOFFSETFROM:-0500
TZOFFSETTO:-0400
TZNAME:EDT
DTSTART:20260308T070000
END:DAYLIGHT
BEGIN:STANDARD
TZOFFSETFROM:-0400
TZOFFSETTO:-0500
TZNAME:EST
DTSTART:20261101T060000
END:STANDARD
BEGIN:DAYLIGHT
TZOFFSETFROM:-0500
TZOFFSETTO:-0400
TZNAME:EDT
DTSTART:20270314T070000
END:DAYLIGHT
BEGIN:STANDARD
TZOFFSETFROM:-0400
TZOFFSETTO:-0500
TZNAME:EST
DTSTART:20271107T060000
END:STANDARD
END:VTIMEZONE
BEGIN:VEVENT
DTSTART;TZID=America/New_York:20260423T160000
DTEND;TZID=America/New_York:20260423T180000
DTSTAMP:20260423T104414
CREATED:20251216T202328Z
LAST-MODIFIED:20251216T205243Z
UID:4240-1776960000-1776967200@www.vscsummitoh.us
SUMMARY:Guitars 4Vets
DESCRIPTION:Guitars4Vets is held most Thursday evenings and coordinated by David Burden @ oh.akron@guitars4vets.org
URL:https://www.vscsummitoh.us/event/guitars-4vets-52/
LOCATION:VSC of Summit County\, 1060 E. Waterloo Road\, Akron\, OH\, 44306\, United States
CATEGORIES:Event,Guitars 4 Vets
ATTACH;FMTTYPE=image/webp:https://www.vscsummitoh.us/wp-content/uploads/2025/03/GuitarsforVets-VSC-event.webp
END:VEVENT
BEGIN:VEVENT
DTSTART;TZID=America/New_York:20260428T170000
DTEND;TZID=America/New_York:20260428T180000
DTSTAMP:20260423T104414
CREATED:20260317T204140Z
LAST-MODIFIED:20260317T204140Z
UID:4395-1777395600-1777399200@www.vscsummitoh.us
SUMMARY:Canine Good Citizenship dog training
DESCRIPTION:Click here for more information and registration
URL:https://www.vscsummitoh.us/event/canine-good-citizenship-dog-training-7/
LOCATION:VSC of Summit County\, 1060 E. Waterloo Road\, Akron\, OH\, 44306\, United States
CATEGORIES:Event
ATTACH;FMTTYPE=image/png:https://www.vscsummitoh.us/wp-content/uploads/2026/02/AKC-CGCC1024-x-620-px-2.png
ORGANIZER;CN="Cor Canis":MAILTO:Rachel@CorCanis.net
END:VEVENT
BEGIN:VEVENT
DTSTART;TZID=America/New_York:20260430T160000
DTEND;TZID=America/New_York:20260430T180000
DTSTAMP:20260423T104414
CREATED:20251216T202436Z
LAST-MODIFIED:20251216T205207Z
UID:4241-1777564800-1777572000@www.vscsummitoh.us
SUMMARY:Guitars 4Vets
DESCRIPTION:Guitars4Vets is held most Thursday evenings and coordinated by David Burden @ oh.akron@guitars4vets.org
URL:https://www.vscsummitoh.us/event/guitars-4vets-53/
LOCATION:VSC of Summit County\, 1060 E. Waterloo Road\, Akron\, OH\, 44306\, United States
CATEGORIES:Event,Guitars 4 Vets
ATTACH;FMTTYPE=image/webp:https://www.vscsummitoh.us/wp-content/uploads/2025/03/GuitarsforVets-VSC-event.webp
END:VEVENT
END:VCALENDAR